BEGIN:VCALENDAR
VERSION:2.0
PRODID:-//Women&#039;s Network of York - ECPv6.15.20//NONSGML v1.0//EN
CALSCALE:GREGORIAN
METHOD:PUBLISH
X-WR-CALNAME:Women&#039;s Network of York
X-ORIGINAL-URL:https://womensnetworkofyork.com
X-WR-CALDESC:Events for Women&#039;s Network of York
REFRESH-INTERVAL;VALUE=DURATION:PT1H
X-Robots-Tag:noindex
X-PUBLISHED-TTL:PT1H
BEGIN:VTIMEZONE
TZID:America/New_York
BEGIN:DAYLIGHT
TZOFFSETFROM:-0500
TZOFFSETTO:-0400
TZNAME:EDT
DTSTART:20250309T070000
END:DAYLIGHT
BEGIN:STANDARD
TZOFFSETFROM:-0400
TZOFFSETTO:-0500
TZNAME:EST
DTSTART:20251102T060000
END:STANDARD
BEGIN:DAYLIGHT
TZOFFSETFROM:-0500
TZOFFSETTO:-0400
TZNAME:EDT
DTSTART:20260308T070000
END:DAYLIGHT
BEGIN:STANDARD
TZOFFSETFROM:-0400
TZOFFSETTO:-0500
TZNAME:EST
DTSTART:20261101T060000
END:STANDARD
BEGIN:DAYLIGHT
TZOFFSETFROM:-0500
TZOFFSETTO:-0400
TZNAME:EDT
DTSTART:20270314T070000
END:DAYLIGHT
BEGIN:STANDARD
TZOFFSETFROM:-0400
TZOFFSETTO:-0500
TZNAME:EST
DTSTART:20271107T060000
END:STANDARD
END:VTIMEZONE
BEGIN:VEVENT
DTSTART;TZID=America/New_York:20260519T111500
DTEND;TZID=America/New_York:20260519T130000
DTSTAMP:20260424T083607
CREATED:20260422T204704Z
LAST-MODIFIED:20260422T205032Z
UID:963-1779189300-1779195600@womensnetworkofyork.com
SUMMARY:May 2026 Luncheon - Nasim Ali
DESCRIPTION:Join us for our April Luncheon to connect with fellow local women and showcase your business. Whether you are a guest or a member\, all are welcome to join us at our new meeting location\, The Madison Room at the OutDoor Country Club (ODCC). Click here to get directions to ODCC! \nThis month’s speaker is Nasim Ali\, CEO & Founder of Nasim & Co. Nasim’s presentation is: Building from Truth: How Authentic Leadership Creates Sustainable Success. \nIn this inspiring and practical talk\, Nasim Ali shares how building a business rooted in authenticity\, emotional intelligence\, and community has transformed both her leadership and her life. Through storytelling and actionable insights\, she explores how burnout often stems from misalignment\, why delegation is a leadership skill (not a weakness)\, and how clarity\, not hustle\, creates sustainable growth. \nThis presentation is designed for women who are navigating ambition\, balance\, and purpose\, and are ready to lead from truth instead of pressure. \nNasim Ali is the Founder and CEO of Nasim & Co.\, a luxury dessert brand rooted in healing\, joy\, and legacy. She leads with love\, integrity\, and respect\, and is committed to building businesses that create meaningful\, lasting impact. \nYou don’t want to miss this month’s luncheon! Come prepared with business cards and ready to share a 30-second commercial to promote your business. \n*Registration is now open and closes on Monday\, May 11th at 11:59 pm. \nMember Registrations are $25 | Guest Registrations are $30\nRegistration cost includes buffet lunch and dessert\, plus the opportunity to promote your business through a 30-second commercial. Please indicate if you or your guest has any dietary restrictions or specific accommodations. \nThis meeting is sponsored by Emily Cover\, Area Coordinator for YoungLives York City. \nEmily Cover\, president of Women’s Network of York\, is excited to share her role as Area Coordinator for YoungLives York City – a teen mom mentoring ministry. \n\nYoung Lives provides mentorship and support for teen mothers.\nOffers parenting education and life skills training.\nHosts social events to build community and friendships.\nFacilitates access to childcare and educational resources.\nEncourages spiritual growth through faith-based activities.\nConnects families with local services and support networks.\n\n\n\nRegister for our May 2026 Luncheon\nFill out the following form to complete your registration. If you have any questions\, please contact us at womensnetworkofyork@gmail.com. \n\n      \n      \n          \n              \n              \n              \n        \n        \n      \n              \n                  \n     \n      \n              \n      \n      WNY May 2026 Luncheon Registration Form\n      \n      \n        \n      \n    \n  Type of Registration*\n  \n    \n          \n            \n            \n              \n                \n                \n                  Select an Option\n                \n              \n              \n                \n                  \n                    \n                    \n                  \n                \n                \n                  \n                    \n                  \n                \n              \n            \n            \n              \n                \n                  \n                  \n                    \n                    \n                  \n                  \n                    \n                      \n                      \n                    \n                  \n                \n                \n                \n                  \n                  \n                    Member ($25)\n                  \n                \n                \n              \n                \n                  \n                  \n                    Guest ($30)\n                  \n                \n                \n              \n                \n                  \n                  \n                    Member + 1 Guest ($55)\n                  \n                \n                \n              \n                \n                  \n                  \n                    Guest + Guest ($60)\n                  \n                \n                \n              \n        \n              \n            \n          \n        \n    \n    \n  \n    \n      \n      \n      \n    \n  \n\n  \n\n  Your Name*\n  \n    \n      \n      \n      \n    \n    \n    \n    \n  \n    \n      \n      \n      \n    \n  \n\n  \n\n  Your Business Name*\n  \n    \n      \n      \n      \n    \n    \n    \n    \n  \n    \n      \n      \n      \n    \n  \n\n  \n\n  Your Email*\n  \n    \n      \n      \n      \n    \n    \n    \n    \n  \n    \n      \n      \n      \n    \n  \n\n  \n\n  Phone Number*\n  \n    \n      \n      \n      \n    \n    \n    \n    \n  \n    \n      \n      \n      \n    \n  \n\n  \n\n  Your Business Address\n  \n    \n      \n      \n      \n    \n    \n    \n  \n    \n      \n      \n      \n    \n  \n\n  \n\n  Your Business' Website\n  \n    \n      \n      \n      \n    \n    \n    \n    \n  \n    \n      \n      \n      \n    \n  \n\n  \n\n  Guest InformationPlease record your guest's info here.\n  \n    \n        \n          \n  Guest's Name\n  \n    \n      \n      \n      \n    \n    \n    \n    \n  \n    \n      \n      \n      \n    \n  \n\n  \n\n  Guest's Email\n  \n    \n      \n      \n      \n    \n    \n    \n    \n  \n    \n      \n      \n      \n    \n  \n\n  \n\n  Guest's Phone\n  \n    \n      \n      \n      \n    \n    \n    \n    \n  \n    \n      \n      \n      \n    \n  \n\n  \n\n  Guest's Business Name\n  \n    \n      \n      \n      \n    \n    \n    \n    \n  \n    \n      \n      \n      \n    \n  \n\n  \n\n        \n    \n    \n    \n  \n    \n      \n      \n      \n    \n  \n\n  \n\n  Dietary Restrictions*\n  \n    \n        \n          \n          \n              No\n            \n              Yes\n            \n        \n      \n    Indicate if you or your guest have dietary restrictions.\n    \n  \n    \n      \n      \n      \n    \n  \n\n  \n\n  Dietary Restriction Notes\n  \n    \n      \n      \n      \n    \n    \n    If you indicated that you have dietary restrictions\, please list them here.\n    \n  \n    \n      \n      \n      \n    \n  \n\n  \n\n  How Did You Hear About Women's Network of York?\n  \n    \n      \n      \n      \n    \n    \n    If someone referred you to our group\, please put their name here. If you found us in another method\, please indicate that here. Thank you!\n    \n  \n    \n      \n      \n      \n    \n  \n\n  \n\n  Comments or Questions?\n  \n    \n      \n      \n      \n    \n    \n    Let us know if you have any additional comments or questions.\n    \n  \n    \n      \n      \n      \n    \n  \n\n  \n\n  Coupon Code\n  \n    \n      \n      \n      \n    \n    \n    \n    \n  \n    \n      \n      \n      \n    \n  \n\n  \n\n  Lunch Registration Total*\n  \n    \n      \n      \n      \n    \n    \n    \n    \n  \n    \n      \n      \n      \n    \n  \n\n  \n\n  \n  \n    \n      \n      \n        \n          \n          \n        \n      \n        Enter Payment Details\n        \n                \n                  \n                \n              \n      \n              \n      \n      \n      \n      \n    \n    \n  \n    \n      \n      \n      \n    \n  \n\n  \n\n  \n  \n    \n        \n          \n          Complete Registration
URL:https://womensnetworkofyork.com/event/may-2026-luncheon-nasim-ali/
LOCATION:Out Door Country Club of York (ODCC)\, 1157 Detwiler Dr\, York\, PA\, 17404\, United States
CATEGORIES:Monthly Luncheon
ATTACH;FMTTYPE=image/jpeg:https://womensnetworkofyork.com/wp-content/uploads/2026/04/Womens-Network-of-York-May-2026-Meeting-Featuring-Speaker-Nasim-Ali-founder-and-CEO-of-Nasim-Co.jpg
ORGANIZER;CN="Women's Network of York":MAILTO:womensnetworkofyork@gmail.com
END:VEVENT
END:VCALENDAR